BEGIN:VCALENDAR
VERSION:2.0
PRODID:-//SIT Public School - ECPv6.15.17//NONSGML v1.0//EN
CALSCALE:GREGORIAN
METHOD:PUBLISH
X-WR-CALNAME:SIT Public School
X-ORIGINAL-URL:https://sitpublicschoolsidhi.com
X-WR-CALDESC:Events for SIT Public School
REFRESH-INTERVAL;VALUE=DURATION:PT1H
X-Robots-Tag:noindex
X-PUBLISHED-TTL:PT1H
BEGIN:VTIMEZONE
TZID:Asia/Kolkata
BEGIN:STANDARD
TZOFFSETFROM:+0530
TZOFFSETTO:+0530
TZNAME:IST
DTSTART:20240101T000000
END:STANDARD
END:VTIMEZONE
BEGIN:VEVENT
DTSTART;TZID=Asia/Kolkata:20250403T080000
DTEND;TZID=Asia/Kolkata:20250423T170000
DTSTAMP:20260419T191418
CREATED:20250611T065710Z
LAST-MODIFIED:20250611T091909Z
UID:1361-1743667200-1745427600@sitpublicschoolsidhi.com
SUMMARY:SIT Public School – Inter-House Football Tournament 2025
DESCRIPTION:Dates: 3rd April to 23rd April\, 2025Venue: SIT Public School Football Ground \nGet ready for the roar of the crowd\, the thrill of the chase\, and the magic of teamwork!SIT Public School is proud to host its much-awaited Inter-House Football Tournament this April — a celebration of sportsmanship\, strategy\, and school spirit. \nFrom April 3rd to 23rd\, our school ground will come alive as students take to the field\, giving their all for their house teams. It’s not just about goals — it’s about discipline\, dedication\, and growing together as a team. \nWhat to Expect: \n\nHouse-wise team matches\nSemi-finals and grand finale showdown\nLive commentary and cheering squads\nSpecial trophy ceremony and medals\nFair play awards & standout performer recognitions\n\nThis tournament is more than a competition — it’s a chance for students to lead\, to learn from wins and losses\, and to build friendships that last long after the final whistle. \nParents are warmly invited to cheer from the sidelines and share in the excitement.Let the games begin! \nFor more information\, please contact the school sports department.On your mark\, get set — GO HOUSE TEAMS!
URL:https://sitpublicschoolsidhi.com/event/sit-public-school-inter-house-football-tournament-2025/
CATEGORIES:School,sport
ATTACH;FMTTYPE=image/png:https://sitpublicschoolsidhi.com/wp-content/uploads/2025/06/indian-kids-football-match.png
END:VEVENT
BEGIN:VEVENT
DTSTART;TZID=Asia/Kolkata:20250306T080000
DTEND;TZID=Asia/Kolkata:20250326T170000
DTSTAMP:20260419T191418
CREATED:20250611T091150Z
LAST-MODIFIED:20250611T091150Z
UID:1387-1741248000-1743008400@sitpublicschoolsidhi.com
SUMMARY:SIT Public School – Cricket Tournament 2025
DESCRIPTION:Dates: 6th March to 26th March\, 2025\nVenue: SIT Public School Sports Ground \nGet ready for the sound of the bat\, the thrill of the chase\, and the cheers from every corner of the field!\nSIT Public School is all set to host its annual Cricket Tournament\, starting 6th March and running through to 26th March 2025. \nThis much-awaited event brings together students from across the school to compete\, collaborate\, and celebrate the true spirit of the game. It’s more than just a tournament — it’s where young talent meets opportunity\, and where friendships are forged on and off the field. \nHighlights: \n\nHouse-wise and class-wise team fixtures\nLeague matches leading to semi-finals and a grand finale\nPlayer of the Match awards in each game\nSpecial honors for Best Batsman\, Bowler & All-Rounder\nTrophy presentation and closing ceremony on 26th March\n\nOur school ground will be buzzing with energy\, excitement\, and healthy competition as students take center stage with their cricketing skills. Parents and well-wishers are warmly invited to come support and encourage the teams. \nLet’s play fair\, cheer loud\, and make it a tournament to remember! \nFor schedule details\, team lists\, or volunteer opportunities\, please contact the school sports office.
URL:https://sitpublicschoolsidhi.com/event/sit-public-school-cricket-tournament-2025/
CATEGORIES:School,sport
ATTACH;FMTTYPE=image/png:https://sitpublicschoolsidhi.com/wp-content/uploads/2025/06/cricket-match-sit.png
END:VEVENT
END:VCALENDAR